BEGIN:VCALENDAR
VERSION:2.0
PRODID:-//La Brèche - ECPv6.15.20//NONSGML v1.0//EN
CALSCALE:GREGORIAN
METHOD:PUBLISH
X-ORIGINAL-URL:http://labrechebd.com
X-WR-CALDESC:Évènements pour La Brèche
REFRESH-INTERVAL;VALUE=DURATION:PT1H
X-Robots-Tag:noindex
X-PUBLISHED-TTL:PT1H
BEGIN:VTIMEZONE
TZID:Europe/Paris
BEGIN:DAYLIGHT
TZOFFSETFROM:+0100
TZOFFSETTO:+0200
TZNAME:CEST
DTSTART:20200329T010000
END:DAYLIGHT
BEGIN:STANDARD
TZOFFSETFROM:+0200
TZOFFSETTO:+0100
TZNAME:CET
DTSTART:20201025T010000
END:STANDARD
BEGIN:DAYLIGHT
TZOFFSETFROM:+0100
TZOFFSETTO:+0200
TZNAME:CEST
DTSTART:20210328T010000
END:DAYLIGHT
BEGIN:STANDARD
TZOFFSETFROM:+0200
TZOFFSETTO:+0100
TZNAME:CET
DTSTART:20211031T010000
END:STANDARD
BEGIN:DAYLIGHT
TZOFFSETFROM:+0100
TZOFFSETTO:+0200
TZNAME:CEST
DTSTART:20220327T010000
END:DAYLIGHT
BEGIN:STANDARD
TZOFFSETFROM:+0200
TZOFFSETTO:+0100
TZNAME:CET
DTSTART:20221030T010000
END:STANDARD
END:VTIMEZONE
BEGIN:VEVENT
DTSTART;TZID=Europe/Paris:20210204T080000
DTEND;TZID=Europe/Paris:20210205T170000
DTSTAMP:20260421T124048
CREATED:20200729T070813Z
LAST-MODIFIED:20200912T090419Z
UID:1410-1612425600-1612544400@labrechebd.com
SUMMARY:Colloque international - Espaces du blanc : concepts et pratiques
DESCRIPTION:
URL:http://labrechebd.com/event/1410/
LOCATION:INHA\, 2 Rue Vivienne\, Paris\, 75002\, France
ATTACH;FMTTYPE=image/jpeg:http://labrechebd.com/wp-content/uploads/2018/08/appelcommunication-3.jpg
END:VEVENT
BEGIN:VEVENT
DTSTART;TZID=Europe/Paris:20210204T080000
DTEND;TZID=Europe/Paris:20210205T170000
DTSTAMP:20260421T124048
CREATED:20201013T140540Z
LAST-MODIFIED:20201013T140540Z
UID:1556-1612425600-1612544400@labrechebd.com
SUMMARY:Colloque - Pif Gadget et compagnie : approches pluridisciplinaires
DESCRIPTION:
URL:http://labrechebd.com/event/colloque-pif-gadget-et-compagnie-approches-pluridisciplinaires/
LOCATION:MSHE Ledoux\, 1 Rue Charles Nodier\, Besançon\, 25000
ATTACH;FMTTYPE=image/jpeg:http://labrechebd.com/wp-content/uploads/2018/08/colloque-2.jpg
END:VEVENT
BEGIN:VEVENT
DTSTART;TZID=Europe/Paris:20210222T080000
DTEND;TZID=Europe/Paris:20210226T170000
DTSTAMP:20260421T124048
CREATED:20200912T095931Z
LAST-MODIFIED:20200912T095931Z
UID:1510-1613980800-1614358800@labrechebd.com
SUMMARY:Colloque - Graphic Novels\, Comics\, and Popular Culture
DESCRIPTION:
URL:http://labrechebd.com/event/colloque-graphic-novels-comics-and-popular-culture/
LOCATION:Conférence virtuelle
ATTACH;FMTTYPE=image/jpeg:http://labrechebd.com/wp-content/uploads/2018/08/colloque-2.jpg
ORGANIZER;CN="SWPACA":MAILTO:support@southwestpca.org
END:VEVENT
END:VCALENDAR